Package: sangeranalyseR Version: 1.16.0 Command: /Library/Frameworks/R.framework/Resources/bin/R CMD INSTALL sangeranalyseR StartedAt: 2025-02-03 18:04:58 -0500 (Mon, 03 Feb 2025) EndedAt: 2025-02-03 18:05:25 -0500 (Mon, 03 Feb 2025) EllapsedTime: 26.5 seconds RetCode: 0 Status: OK