Package: sangeranalyseR Version: 1.16.0 Command: /Library/Frameworks/R.framework/Resources/bin/R CMD INSTALL sangeranalyseR StartedAt: 2025-02-03 16:44:16 -0500 (Mon, 03 Feb 2025) EndedAt: 2025-02-03 16:45:09 -0500 (Mon, 03 Feb 2025) EllapsedTime: 53.2 seconds RetCode: 0 Status: OK