Package: sangeranalyseR Version: 1.16.0 Command: /home/biocbuild/R/R/bin/R CMD INSTALL sangeranalyseR StartedAt: 2025-02-10 21:05:46 -0000 (Mon, 10 Feb 2025) EndedAt: 2025-02-10 21:06:16 -0000 (Mon, 10 Feb 2025) EllapsedTime: 30.6 seconds RetCode: 0 Status: OK