Package: sangerseqR Version: 1.42.0 Command: /Library/Frameworks/R.framework/Resources/bin/R CMD build --keep-empty-dirs --no-resave-data sangerseqR StartedAt: 2025-01-31 07:02:05 -0500 (Fri, 31 Jan 2025) EndedAt: 2025-01-31 07:02:46 -0500 (Fri, 31 Jan 2025) EllapsedTime: 40.5 seconds RetCode: 0 Status: OK PackageFile: sangerseqR_1.42.0.tar.gz PackageFileSize: 2.934 MiB