Package: sangerseqR Version: 1.42.0 Command: /Library/Frameworks/R.framework/Resources/bin/R CMD INSTALL sangerseqR StartedAt: 2025-01-30 16:53:16 -0500 (Thu, 30 Jan 2025) EndedAt: 2025-01-30 16:53:32 -0500 (Thu, 30 Jan 2025) EllapsedTime: 15.8 seconds RetCode: 0 Status: OK