Package: sangerseqR Version: 1.42.0 Command: rm -rf sangerseqR.buildbin-libdir && mkdir sangerseqR.buildbin-libdir && F:\biocbuild\bbs-3.20-bioc\R\bin\R.exe CMD INSTALL --build --library=sangerseqR.buildbin-libdir sangerseqR_1.42.0.tar.gz StartedAt: 2025-01-31 09:31:27 -0500 (Fri, 31 Jan 2025) EndedAt: 2025-01-31 09:32:32 -0500 (Fri, 31 Jan 2025) EllapsedTime: 65.0 seconds RetCode: 0 Status: OK PackageFile: sangerseqR_1.42.0.zip PackageFileSize: 1.865 MiB