Package: sangerseqR Version: 1.42.0 Command: chmod a+r sangerseqR -R && F:\biocbuild\bbs-3.20-bioc\R\bin\R.exe CMD build --keep-empty-dirs --no-resave-data sangerseqR StartedAt: 2025-01-30 21:35:00 -0500 (Thu, 30 Jan 2025) EndedAt: 2025-01-30 21:36:06 -0500 (Thu, 30 Jan 2025) EllapsedTime: 66.1 seconds RetCode: 0 Status: OK PackageFile: sangerseqR_1.42.0.tar.gz PackageFileSize: 1.649 MiB