Package: sangerseqR Version: 1.42.0 Command: F:\biocbuild\bbs-3.20-bioc\R\bin\R.exe CMD INSTALL sangerseqR StartedAt: 2025-01-30 15:52:15 -0500 (Thu, 30 Jan 2025) EndedAt: 2025-01-30 15:52:59 -0500 (Thu, 30 Jan 2025) EllapsedTime: 44.0 seconds RetCode: 0 Status: OK