Package: sarks Version: 1.18.0 Command: rm -rf sarks.buildbin-libdir && mkdir sarks.buildbin-libdir && /Users/biocbuild/BBS/utils/build-universal.sh sarks_1.18.0.tar.gz /Library/Frameworks/R.framework/Resources/bin/R sarks.buildbin-libdir StartedAt: 2025-02-01 16:41:44 -0500 (Sat, 01 Feb 2025) EndedAt: 2025-02-01 16:41:59 -0500 (Sat, 01 Feb 2025) EllapsedTime: 14.7 seconds RetCode: 0 Status: OK PackageFile: sarks_1.18.0.tgz PackageFileSize: 778.7 KiB