Package: sarks Version: 1.18.0 Command: /Library/Frameworks/R.framework/Resources/bin/R CMD build --keep-empty-dirs --no-resave-data sarks StartedAt: 2025-01-31 07:02:46 -0500 (Fri, 31 Jan 2025) EndedAt: 2025-01-31 07:03:17 -0500 (Fri, 31 Jan 2025) EllapsedTime: 31.4 seconds RetCode: 0 Status: OK PackageFile: sarks_1.18.0.tar.gz PackageFileSize: 744.9 KiB