Package: sarks Version: 1.18.0 Command: /Library/Frameworks/R.framework/Resources/bin/R CMD build --keep-empty-dirs --no-resave-data sarks StartedAt: 2025-01-30 22:29:20 -0500 (Thu, 30 Jan 2025) EndedAt: 2025-01-30 22:30:14 -0500 (Thu, 30 Jan 2025) EllapsedTime: 54.8 seconds RetCode: 0 Status: OK PackageFile: sarks_1.18.0.tar.gz PackageFileSize: 744.7 KiB