Package: sarks Version: 1.18.0 Command: F:\biocbuild\bbs-3.20-bioc\R\bin\R.exe CMD INSTALL sarks StartedAt: 2025-02-10 15:47:46 -0500 (Mon, 10 Feb 2025) EndedAt: 2025-02-10 15:48:07 -0500 (Mon, 10 Feb 2025) EllapsedTime: 21.2 seconds RetCode: 0 Status: OK