Package: sarks Version: 1.18.0 Command: /home/biocbuild/R/R/bin/R CMD check --install=check:sarks.install-out.txt --library=/home/biocbuild/R/R/site-library --no-vignettes --timings sarks_1.18.0.tar.gz StartedAt: 2025-02-04 10:43:13 -0000 (Tue, 04 Feb 2025) EndedAt: 2025-02-04 10:44:53 -0000 (Tue, 04 Feb 2025) EllapsedTime: 100.1 seconds RetCode: 0 Status: OK CheckDir: sarks.Rcheck Warnings: 0