Package: saseR Version: 1.2.0 Command: /Library/Frameworks/R.framework/Resources/bin/R CMD check --install=check:saseR.install-out.txt --library=/Library/Frameworks/R.framework/Resources/library --no-vignettes --timings saseR_1.2.0.tar.gz StartedAt: 2025-02-05 08:40:52 -0500 (Wed, 05 Feb 2025) EndedAt: 2025-02-05 08:49:40 -0500 (Wed, 05 Feb 2025) EllapsedTime: 527.8 seconds RetCode: 0 Status: WARNINGS CheckDir: saseR.Rcheck Warnings: 1