Package: saseR Version: 1.2.0 Command: /Library/Frameworks/R.framework/Resources/bin/R CMD INSTALL saseR StartedAt: 2025-02-03 17:32:11 -0500 (Mon, 03 Feb 2025) EndedAt: 2025-02-03 17:33:18 -0500 (Mon, 03 Feb 2025) EllapsedTime: 67.1 seconds RetCode: 0 Status: OK