Package: scBFA Version: 1.20.0 Command: rm -rf scBFA.buildbin-libdir && mkdir scBFA.buildbin-libdir && /Users/biocbuild/BBS/utils/build-universal.sh scBFA_1.20.0.tar.gz /Library/Frameworks/R.framework/Resources/bin/R scBFA.buildbin-libdir StartedAt: 2025-02-05 17:39:20 -0500 (Wed, 05 Feb 2025) EndedAt: 2025-02-05 17:40:18 -0500 (Wed, 05 Feb 2025) EllapsedTime: 58.0 seconds RetCode: 0 Status: OK PackageFile: scBFA_1.20.0.tgz PackageFileSize: 1.284 MiB