Package: scBFA Version: 1.20.0 Command: /Library/Frameworks/R.framework/Resources/bin/R CMD check --install=check:scBFA.install-out.txt --library=/Library/Frameworks/R.framework/Resources/library --no-vignettes --timings scBFA_1.20.0.tar.gz StartedAt: 2025-02-05 08:54:00 -0500 (Wed, 05 Feb 2025) EndedAt: 2025-02-05 09:00:26 -0500 (Wed, 05 Feb 2025) EllapsedTime: 385.5 seconds RetCode: 0 Status: OK CheckDir: scBFA.Rcheck Warnings: 0