Package: scBFA Version: 1.20.0 Command: /Library/Frameworks/R.framework/Resources/bin/R CMD INSTALL scBFA StartedAt: 2025-02-03 17:20:08 -0500 (Mon, 03 Feb 2025) EndedAt: 2025-02-03 17:21:02 -0500 (Mon, 03 Feb 2025) EllapsedTime: 53.8 seconds RetCode: 0 Status: OK