Package: scBFA Version: 1.20.0 Command: /Library/Frameworks/R.framework/Resources/bin/R CMD INSTALL scBFA StartedAt: 2025-02-03 16:24:24 -0500 (Mon, 03 Feb 2025) EndedAt: 2025-02-03 16:26:00 -0500 (Mon, 03 Feb 2025) EllapsedTime: 96.0 seconds RetCode: 0 Status: OK