Package: scBFA Version: 1.20.0 Command: /home/biocbuild/R/R/bin/R CMD INSTALL scBFA StartedAt: 2025-02-03 21:08:37 -0000 (Mon, 03 Feb 2025) EndedAt: 2025-02-03 21:09:34 -0000 (Mon, 03 Feb 2025) EllapsedTime: 57.2 seconds RetCode: 0 Status: OK