Package: scBubbletree Version: 1.8.0 Command: /Library/Frameworks/R.framework/Resources/bin/R CMD build --keep-empty-dirs --no-resave-data scBubbletree StartedAt: 2025-02-04 07:23:23 -0500 (Tue, 04 Feb 2025) EndedAt: 2025-02-04 07:30:35 -0500 (Tue, 04 Feb 2025) EllapsedTime: 432.1 seconds RetCode: 0 Status: OK PackageFile: scBubbletree_1.8.0.tar.gz PackageFileSize: 4.43 MiB