Package: scBubbletree Version: 1.8.0 Command: /Library/Frameworks/R.framework/Resources/bin/R CMD check --install=check:scBubbletree.install-out.txt --library=/Library/Frameworks/R.framework/Resources/library --no-vignettes --timings scBubbletree_1.8.0.tar.gz StartedAt: 2025-02-05 08:55:33 -0500 (Wed, 05 Feb 2025) EndedAt: 2025-02-05 09:06:08 -0500 (Wed, 05 Feb 2025) EllapsedTime: 635.1 seconds RetCode: 0 Status: OK CheckDir: scBubbletree.Rcheck Warnings: 0