Package: scBubbletree Version: 1.8.0 Command: rm -rf scBubbletree.buildbin-libdir && mkdir scBubbletree.buildbin-libdir && /Users/biocbuild/BBS/utils/build-universal.sh scBubbletree_1.8.0.tar.gz /Library/Frameworks/R.framework/Resources/bin/R scBubbletree.buildbin-libdir StartedAt: 2025-01-31 13:37:37 -0500 (Fri, 31 Jan 2025) EndedAt: 2025-01-31 13:38:23 -0500 (Fri, 31 Jan 2025) EllapsedTime: 46.2 seconds RetCode: 0 Status: OK PackageFile: scBubbletree_1.8.0.tgz PackageFileSize: 2.588 MiB