Package: scBubbletree Version: 1.8.0 Command: rm -rf scBubbletree.buildbin-libdir && mkdir scBubbletree.buildbin-libdir && F:\biocbuild\bbs-3.20-bioc\R\bin\R.exe CMD INSTALL --build --library=scBubbletree.buildbin-libdir scBubbletree_1.8.0.tar.gz StartedAt: 2025-02-04 09:26:50 -0500 (Tue, 04 Feb 2025) EndedAt: 2025-02-04 09:27:46 -0500 (Tue, 04 Feb 2025) EllapsedTime: 56.6 seconds RetCode: 0 Status: OK PackageFile: scBubbletree_1.8.0.zip PackageFileSize: 2.071 MiB