Package: scDD Version: 1.30.0 Command: /Library/Frameworks/R.framework/Resources/bin/R CMD check --install=check:scDD.install-out.txt --library=/Library/Frameworks/R.framework/Resources/library --no-vignettes --timings scDD_1.30.0.tar.gz StartedAt: 2025-02-05 09:01:48 -0500 (Wed, 05 Feb 2025) EndedAt: 2025-02-05 09:07:15 -0500 (Wed, 05 Feb 2025) EllapsedTime: 327.5 seconds RetCode: 0 Status: OK CheckDir: scDD.Rcheck Warnings: 0