Package: scDD Version: 1.30.0 Command: /Library/Frameworks/R.framework/Resources/bin/R CMD build --keep-empty-dirs --no-resave-data scDD StartedAt: 2025-02-03 22:01:08 -0500 (Mon, 03 Feb 2025) EndedAt: 2025-02-03 22:05:54 -0500 (Mon, 03 Feb 2025) EllapsedTime: 285.3 seconds RetCode: 0 Status: OK PackageFile: scDD_1.30.0.tar.gz PackageFileSize: 846.5 KiB