Package: scDD Version: 1.30.0 Command: /Library/Frameworks/R.framework/Resources/bin/R CMD check --install=check:scDD.install-out.txt --library=/Library/Frameworks/R.framework/Resources/library --no-vignettes --timings scDD_1.30.0.tar.gz StartedAt: 2025-02-04 09:35:36 -0500 (Tue, 04 Feb 2025) EndedAt: 2025-02-04 09:45:58 -0500 (Tue, 04 Feb 2025) EllapsedTime: 621.4 seconds RetCode: 0 Status: OK CheckDir: scDD.Rcheck Warnings: 0