Package: scDD Version: 1.30.0 Command: /home/biocbuild/bbs-3.20-bioc/R/bin/R CMD build --keep-empty-dirs --no-resave-data --md5 scDD StartedAt: 2025-02-03 19:09:31 -0500 (Mon, 03 Feb 2025) EndedAt: 2025-02-03 19:11:24 -0500 (Mon, 03 Feb 2025) EllapsedTime: 113.1 seconds RetCode: 0 Status: OK PackageFile: scDD_1.30.0.tar.gz PackageFileSize: 848.4 KiB