Package: scDD Version: 1.30.0 Command: /home/biocbuild/bbs-3.20-bioc/R/bin/R CMD INSTALL scDD StartedAt: 2025-02-03 16:02:30 -0500 (Mon, 03 Feb 2025) EndedAt: 2025-02-03 16:03:08 -0500 (Mon, 03 Feb 2025) EllapsedTime: 38.0 seconds RetCode: 0 Status: OK