Package: scDD Version: 1.30.0 Command: rm -rf scDD.buildbin-libdir && mkdir scDD.buildbin-libdir && F:\biocbuild\bbs-3.20-bioc\R\bin\R.exe CMD INSTALL --build --library=scDD.buildbin-libdir scDD_1.30.0.tar.gz StartedAt: 2025-02-04 09:27:03 -0500 (Tue, 04 Feb 2025) EndedAt: 2025-02-04 09:27:59 -0500 (Tue, 04 Feb 2025) EllapsedTime: 55.7 seconds RetCode: 0 Status: OK PackageFile: scDD_1.30.0.zip PackageFileSize: 1.005 MiB