Package: scDD Version: 1.30.0 Command: chmod a+r scDD -R && F:\biocbuild\bbs-3.20-bioc\R\bin\R.exe CMD build --keep-empty-dirs --no-resave-data scDD StartedAt: 2025-02-03 21:54:40 -0500 (Mon, 03 Feb 2025) EndedAt: 2025-02-03 22:00:51 -0500 (Mon, 03 Feb 2025) EllapsedTime: 370.7 seconds RetCode: 0 Status: OK PackageFile: scDD_1.30.0.tar.gz PackageFileSize: 848.7 KiB