Package: scDDboost Version: 1.8.0 Command: /Library/Frameworks/R.framework/Resources/bin/R CMD INSTALL scDDboost StartedAt: 2025-02-03 16:13:50 -0500 (Mon, 03 Feb 2025) EndedAt: 2025-02-03 16:14:19 -0500 (Mon, 03 Feb 2025) EllapsedTime: 28.7 seconds RetCode: 1 Status: ERROR