Package: scDDboost Version: 1.8.0 Command: F:\biocbuild\bbs-3.20-bioc\R\bin\R.exe CMD INSTALL scDDboost StartedAt: 2025-02-03 16:31:04 -0500 (Mon, 03 Feb 2025) EndedAt: 2025-02-03 16:31:23 -0500 (Mon, 03 Feb 2025) EllapsedTime: 19.4 seconds RetCode: 1 Status: ERROR