Package: scDDboost Version: 1.8.0 Command: /home/biocbuild/R/R/bin/R CMD INSTALL scDDboost StartedAt: 2025-02-03 21:02:36 -0000 (Mon, 03 Feb 2025) EndedAt: 2025-02-03 21:02:37 -0000 (Mon, 03 Feb 2025) EllapsedTime: 1.2 seconds RetCode: 1 Status: ERROR