Package: scDblFinder Version: 1.20.2 Command: rm -rf scDblFinder.buildbin-libdir && mkdir scDblFinder.buildbin-libdir && /Users/biocbuild/BBS/utils/build-universal.sh scDblFinder_1.20.2.tar.gz /Library/Frameworks/R.framework/Resources/bin/R scDblFinder.buildbin-libdir StartedAt: 2025-02-12 16:53:14 -0500 (Wed, 12 Feb 2025) EndedAt: 2025-02-12 16:54:09 -0500 (Wed, 12 Feb 2025) EllapsedTime: 54.5 seconds RetCode: 0 Status: OK PackageFile: scDblFinder_1.20.2.tgz PackageFileSize: 2.43 MiB