Package: scDblFinder Version: 1.20.2 Command: /Library/Frameworks/R.framework/Resources/bin/R CMD check --install=check:scDblFinder.install-out.txt --library=/Library/Frameworks/R.framework/Resources/library --no-vignettes --timings scDblFinder_1.20.2.tar.gz StartedAt: 2025-02-12 08:20:15 -0500 (Wed, 12 Feb 2025) EndedAt: 2025-02-12 08:27:17 -0500 (Wed, 12 Feb 2025) EllapsedTime: 421.6 seconds RetCode: 0 Status: OK CheckDir: scDblFinder.Rcheck Warnings: 0