Package: scDblFinder Version: 1.20.0 Command: rm -rf scDblFinder.buildbin-libdir && mkdir scDblFinder.buildbin-libdir && F:\biocbuild\bbs-3.20-bioc\R\bin\R.exe CMD INSTALL --build --library=scDblFinder.buildbin-libdir scDblFinder_1.20.0.tar.gz StartedAt: 2025-02-04 09:27:00 -0500 (Tue, 04 Feb 2025) EndedAt: 2025-02-04 09:28:09 -0500 (Tue, 04 Feb 2025) EllapsedTime: 69.0 seconds RetCode: 0 Status: OK PackageFile: scDblFinder_1.20.0.zip PackageFileSize: 2.054 MiB