Package: scDblFinder Version: 1.20.0 Command: chmod a+r scDblFinder -R && F:\biocbuild\bbs-3.20-bioc\R\bin\R.exe CMD build --keep-empty-dirs --no-resave-data scDblFinder StartedAt: 2025-02-03 21:54:33 -0500 (Mon, 03 Feb 2025) EndedAt: 2025-02-03 21:58:08 -0500 (Mon, 03 Feb 2025) EllapsedTime: 214.3 seconds RetCode: 0 Status: OK PackageFile: scDblFinder_1.20.0.tar.gz PackageFileSize: 1.863 MiB