Package: scDblFinder Version: 1.20.0 Command: /home/biocbuild/R/R/bin/R CMD build --keep-empty-dirs --no-resave-data scDblFinder StartedAt: 2025-02-04 02:38:07 -0000 (Tue, 04 Feb 2025) EndedAt: 2025-02-04 02:42:18 -0000 (Tue, 04 Feb 2025) EllapsedTime: 251.5 seconds RetCode: 0 Status: OK PackageFile: scDblFinder_1.20.0.tar.gz PackageFileSize: 2.03 MiB