Package: scDblFinder Version: 1.20.2 Command: /home/biocbuild/R/R/bin/R CMD INSTALL scDblFinder StartedAt: 2025-02-10 21:02:54 -0000 (Mon, 10 Feb 2025) EndedAt: 2025-02-10 21:03:44 -0000 (Mon, 10 Feb 2025) EllapsedTime: 50.7 seconds RetCode: 0 Status: OK