Package: scDesign3 Version: 1.4.0 Command: rm -rf scDesign3.buildbin-libdir && mkdir scDesign3.buildbin-libdir && /Users/biocbuild/BBS/utils/build-universal.sh scDesign3_1.4.0.tar.gz /Library/Frameworks/R.framework/Resources/bin/R scDesign3.buildbin-libdir StartedAt: 2025-02-01 16:44:49 -0500 (Sat, 01 Feb 2025) EndedAt: 2025-02-01 16:45:01 -0500 (Sat, 01 Feb 2025) EllapsedTime: 11.3 seconds RetCode: 0 Status: OK PackageFile: scDesign3_1.4.0.tgz PackageFileSize: 1.12 MiB