Package: scDesign3 Version: 1.4.0 Command: /Library/Frameworks/R.framework/Resources/bin/R CMD build --keep-empty-dirs --no-resave-data scDesign3 StartedAt: 2025-01-31 07:18:13 -0500 (Fri, 31 Jan 2025) EndedAt: 2025-01-31 07:19:28 -0500 (Fri, 31 Jan 2025) EllapsedTime: 75.0 seconds RetCode: 0 Status: OK PackageFile: scDesign3_1.4.0.tar.gz PackageFileSize: 1010 KiB