Package: scDesign3 Version: 1.4.0 Command: /Library/Frameworks/R.framework/Resources/bin/R CMD check --install=check:scDesign3.install-out.txt --library=/Library/Frameworks/R.framework/Resources/library --no-vignettes --timings scDesign3_1.4.0.tar.gz StartedAt: 2025-02-01 08:13:55 -0500 (Sat, 01 Feb 2025) EndedAt: 2025-02-01 08:16:47 -0500 (Sat, 01 Feb 2025) EllapsedTime: 171.4 seconds RetCode: 0 Status: OK CheckDir: scDesign3.Rcheck Warnings: 0