Package: scDesign3 Version: 1.4.0 Command: /home/biocbuild/R/R/bin/R CMD INSTALL scDesign3 StartedAt: 2024-11-19 21:16:11 -0000 (Tue, 19 Nov 2024) EndedAt: 2024-11-19 21:16:23 -0000 (Tue, 19 Nov 2024) EllapsedTime: 11.8 seconds RetCode: 0 Status: OK