Package: scDesign3 Version: 1.4.0 Command: /Library/Frameworks/R.framework/Resources/bin/R CMD build --keep-empty-dirs --no-resave-data scDesign3 StartedAt: 2025-01-30 22:34:20 -0500 (Thu, 30 Jan 2025) EndedAt: 2025-01-30 22:36:46 -0500 (Thu, 30 Jan 2025) EllapsedTime: 146.3 seconds RetCode: 0 Status: OK PackageFile: scDesign3_1.4.0.tar.gz PackageFileSize: 1021 KiB