Package: scDesign3 Version: 1.4.0 Command: /Library/Frameworks/R.framework/Resources/bin/R CMD check --install=check:scDesign3.install-out.txt --library=/Library/Frameworks/R.framework/Resources/library --no-vignettes --timings scDesign3_1.4.0.tar.gz StartedAt: 2025-01-31 09:34:53 -0500 (Fri, 31 Jan 2025) EndedAt: 2025-01-31 09:40:08 -0500 (Fri, 31 Jan 2025) EllapsedTime: 315.1 seconds RetCode: 0 Status: OK CheckDir: scDesign3.Rcheck Warnings: 0