Package: scDesign3 Version: 1.4.0 Command: /home/biocbuild/bbs-3.20-bioc/R/bin/R CMD build --keep-empty-dirs --no-resave-data --md5 scDesign3 StartedAt: 2025-01-30 19:00:16 -0500 (Thu, 30 Jan 2025) EndedAt: 2025-01-30 19:01:39 -0500 (Thu, 30 Jan 2025) EllapsedTime: 82.1 seconds RetCode: 0 Status: OK PackageFile: scDesign3_1.4.0.tar.gz PackageFileSize: 902.5 KiB