Package: scDesign3 Version: 1.4.0 Command: chmod a+r scDesign3 -R && F:\biocbuild\bbs-3.20-bioc\R\bin\R.exe CMD build --keep-empty-dirs --no-resave-data scDesign3 StartedAt: 2025-01-30 21:38:39 -0500 (Thu, 30 Jan 2025) EndedAt: 2025-01-30 21:41:24 -0500 (Thu, 30 Jan 2025) EllapsedTime: 164.7 seconds RetCode: 0 Status: OK PackageFile: scDesign3_1.4.0.tar.gz PackageFileSize: 779.9 KiB