Package: scDesign3 Version: 1.4.0 Command: /home/biocbuild/R/R/bin/R CMD build --keep-empty-dirs --no-resave-data scDesign3 StartedAt: 2025-01-31 02:27:05 -0000 (Fri, 31 Jan 2025) EndedAt: 2025-01-31 02:28:44 -0000 (Fri, 31 Jan 2025) EllapsedTime: 99.2 seconds RetCode: 0 Status: OK PackageFile: scDesign3_1.4.0.tar.gz PackageFileSize: 730.6 KiB