Package: scDesign3 Version: 1.4.0 Command: /home/biocbuild/R/R/bin/R CMD check --install=check:scDesign3.install-out.txt --library=/home/biocbuild/R/R/site-library --no-vignettes --timings scDesign3_1.4.0.tar.gz StartedAt: 2025-01-31 10:07:54 -0000 (Fri, 31 Jan 2025) EndedAt: 2025-01-31 10:10:56 -0000 (Fri, 31 Jan 2025) EllapsedTime: 182.1 seconds RetCode: 0 Status: OK CheckDir: scDesign3.Rcheck Warnings: 0